BEGIN:VCALENDAR
VERSION:2.0
METHOD:PUBLISH
PRODID:-//ActiveDataExchange/NEXTGEN V1//EN
BEGIN:VEVENT
ORGANIZER:mailto:welcomecenter@canyons.edu
DTSTART:20260424T220000Z
DTEND:20260425T010000Z
DTSTAMP:20260424T073216Z
LOCATION:Valencia Campus 26455 Rockwell Canyon Road Santa Clarita CA 91355
SUMMARY:Discover Day
DESCRIPTION:Come to the Valencia Campus for a day filled with excitement
  and discovery. This event is the perfect opportunity to ex
 plore all College of the Canyons has to offer! Prospective 
 students and community members can come to learn more about
  us, as we showcase our various offerings to the community.\nView the full event details here: https://events.canyons.edu/event/discover-day-4/
CATEGORIES:
CONTACT:Outreach,welcomecenter@canyons.edu
CLASS:PUBLIC
UID:5BC53AC1-DDDF-4A7A-8CC9-7860426C4B16
BEGIN:VALARM
TRIGGER:-PT15M
ACTION:DISPLAY
DESCRIPTION:Discover Day
END:VALARM
END:VEVENT
END:VCALENDAR
