BEGIN:VCALENDAR
VERSION:2.0
METHOD:PUBLISH
PRODID:-//ActiveDataExchange/NEXTGEN V1//EN
BEGIN:VEVENT
ORGANIZER:mailto:campus.life@canyons.edu
DTSTART:20260512T170000Z
DTEND:20260512T230000Z
DTSTAMP:20260424T072621Z
LOCATION:Valencia Campus 26455 Rockwell Canyon Road Santa Clarita CA 91355
SUMMARY:Grad Fair
DESCRIPTION:Grad Fair is the One Stop-Shop for Graduation apparel and in
 formation! The event will take place in the Cafeteria, loca
 ted at the Valencia campus in the Student Center.\nView the full event details here: https://events.canyons.edu/event/grad-fair-2/
CATEGORIES:Student Activity
CONTACT:Campus Life &amp; Student Engagement,campus.life@canyons.edu,(661) 362-3238
CLASS:PUBLIC
UID:004073C8-413F-46AB-B646-23719D99EE65
BEGIN:VALARM
TRIGGER:-PT15M
ACTION:DISPLAY
DESCRIPTION:Grad Fair
END:VALARM
END:VEVENT
END:VCALENDAR
