BEGIN:VCALENDAR
VERSION:2.0
METHOD:PUBLISH
PRODID:-//ActiveDataExchange/NEXTGEN V1//EN
BEGIN:VEVENT
ORGANIZER:mailto:brandon.silva@canyons.edu
DTSTART:20260505T190000Z
DTEND:20260505T210000Z
DTSTAMP:20260424T073453Z
LOCATION:Valencia Campus 26455 Rockwell Canyon Road Santa Clarita CA 91355
SUMMARY:MMIW/R Awareness Event 
DESCRIPTION:Join Us in Solidarity, Wear Red! Students and members of the
  campus community are invited to join NASSSP in honoring an
 d raising awareness for Missing and Murdered Indigenous Wom
 en and Relatives (MMIW/R). This gathering is a time to stan
 d in solidarity, remember those who are missing and taken, 
 sp\nView the full event details here: https://events.canyons.edu/event/mmiwr-awareness-event/
CATEGORIES:Art Gallery Exhibit, Presentation, Student Activity
CONTACT:Brandon Silva,brandon.silva@canyons.edu,(166) 136-2377,3779
CLASS:PUBLIC
UID:80BB5B7C-0992-4BE5-9B8A-A6E577418547
BEGIN:VALARM
TRIGGER:-PT15M
ACTION:DISPLAY
DESCRIPTION:MMIW/R Awareness Event 
END:VALARM
END:VEVENT
END:VCALENDAR
