BEGIN:VCALENDAR
VERSION:2.0
METHOD:PUBLISH
PRODID:-//ActiveDataExchange/NEXTGEN V1//EN
BEGIN:VEVENT
ORGANIZER:mailto:esmeralda.martinez-rosales@canyons.edu
DTSTART:20260508T160000Z
DTEND:20260508T200000Z
DTSTAMP:20260424T073421Z
LOCATION:Valencia Campus 26455 Rockwell Canyon Road Santa Clarita CA 91355
SUMMARY:Safe Zone Training 
DESCRIPTION:Attending this workshop will help you understand commonly us
 ed terms and symbols related to sexual orientation and gend
 er identity, ways to positively respond and provide support
  to LGBTQIA+ individuals, the importance of allyship, and m
 ore! This training provides 4 hours of FLEX.\nView the full event details here: https://events.canyons.edu/event/safe-zone-training-8/
CATEGORIES:Presentation, Training, Workshops
CONTACT:Esmeralda,esmeralda.martinez-rosales@canyons.edu,6613623559
CLASS:PUBLIC
UID:265F28D8-07F9-4FD9-BD0A-3C732877C7F1
BEGIN:VALARM
TRIGGER:-PT15M
ACTION:DISPLAY
DESCRIPTION:Safe Zone Training 
END:VALARM
END:VEVENT
END:VCALENDAR
