BEGIN:VCALENDAR
VERSION:2.0
METHOD:PUBLISH
PRODID:-//ActiveDataExchange/NEXTGEN V1//EN
BEGIN:VEVENT
ORGANIZER:mailto:hiba.edgheim@canyons.edu
DTSTART:20260424T170000Z
DTEND:20260424T210000Z
DTSTAMP:20260424T072421Z
LOCATION:Valencia Campus 26455 Rockwell Canyon Road Santa Clarita CA 91355
SUMMARY:Santa Clarita Job Fair
DESCRIPTION:Whether you're actively looking for a job or simply explorin
 g new career opportunities, this is your moment to shine.\nView the full event details here: https://events.canyons.edu/event/santa-clarita-job-fair-8/
CATEGORIES:Fair
CONTACT:Hiba,hiba.edgheim@canyons.edu,6613623286,3328
CLASS:PUBLIC
UID:5DE8646A-C2CD-481D-BF7B-50F95D9E41A9
BEGIN:VALARM
TRIGGER:-PT15M
ACTION:DISPLAY
DESCRIPTION:Santa Clarita Job Fair
END:VALARM
END:VEVENT
END:VCALENDAR
