BEGIN:VCALENDAR
VERSION:2.0
METHOD:PUBLISH
PRODID:-//ActiveDataExchange/NEXTGEN V1//EN
BEGIN:VEVENT
ORGANIZER:mailto:box-office@canyons.edu
DTSTART:20260510T030000Z
DTEND:20260510T050000Z
DTSTAMP:20260424T073313Z
LOCATION:Valencia Campus 26455 Rockwell Canyon Road Santa Clarita CA 91355
SUMMARY:Uptown
DESCRIPTION:UPTOWN delivers a high-energy show blending Motown classics 
 and today’s hits with smooth vocals, slick choreography, an
 d Bruno Mars-style stage presence—guaranteed to get every c
 rowd on their feet!\nView the full event details here: https://events.canyons.edu/event/uptown/
CATEGORIES:Music
CONTACT:Box Office,box-office@canyons.edu,6613625304
CLASS:PUBLIC
UID:52120436-425C-4651-80CE-ACF2C64D200B
BEGIN:VALARM
TRIGGER:-PT15M
ACTION:DISPLAY
DESCRIPTION:Uptown
END:VALARM
END:VEVENT
END:VCALENDAR
